BEGIN:VCALENDAR
VERSION:2.0
PRODID:-//Singapore Chess Federation - ECPv6.15.20//NONSGML v1.0//EN
CALSCALE:GREGORIAN
METHOD:PUBLISH
X-WR-CALNAME:Singapore Chess Federation
X-ORIGINAL-URL:https://singaporechess.org.sg
X-WR-CALDESC:Events for Singapore Chess Federation
REFRESH-INTERVAL;VALUE=DURATION:PT1H
X-Robots-Tag:noindex
X-PUBLISHED-TTL:PT1H
BEGIN:VTIMEZONE
TZID:Asia/Singapore
BEGIN:STANDARD
TZOFFSETFROM:+0800
TZOFFSETTO:+0800
TZNAME:+08
DTSTART:20250101T000000
END:STANDARD
END:VTIMEZONE
BEGIN:VEVENT
DTSTART;TZID=Asia/Singapore:20260606T130000
DTEND;TZID=Asia/Singapore:20260606T180000
DTSTAMP:20260422T011903
CREATED:20260414T055941Z
LAST-MODIFIED:20260414T055941Z
UID:28465-1780750800-1780768800@singaporechess.org.sg
SUMMARY:21st Chess.sg Age Group Championship
DESCRIPTION:
URL:https://singaporechess.org.sg/event/21st-chess-sg-age-group-championship/
LOCATION:Bukit Timah Shopping Centre\, Tower Block\, #18-01\, 588179
CATEGORIES:Rapid
END:VEVENT
BEGIN:VEVENT
DTSTART;TZID=Asia/Singapore:20260606T130000
DTEND;TZID=Asia/Singapore:20260607T173000
DTSTAMP:20260422T011903
CREATED:20260327T060349Z
LAST-MODIFIED:20260405T042553Z
UID:27892-1780750800-1780853400@singaporechess.org.sg
SUMMARY:Playnow! Grand Prix Chess Challenge Event C @ Aperia Mall
DESCRIPTION:Register here
URL:https://singaporechess.org.sg/event/playnow-grand-prix-chess-challenge-event-c-aperia-mall/
LOCATION:Aperia Mall\, 12 Kallang Ave\, Singapore 339511 Main Atrium
CATEGORIES:Rapid,SCF Tournaments
ATTACH;FMTTYPE=image/png:https://singaporechess.org.sg/wp-content/uploads/2026/03/Aperia-V2.png
END:VEVENT
BEGIN:VEVENT
DTSTART;TZID=Asia/Singapore:20260613T130000
DTEND;TZID=Asia/Singapore:20260613T193000
DTSTAMP:20260422T011903
CREATED:20260414T060135Z
LAST-MODIFIED:20260414T060135Z
UID:28467-1781355600-1781379000@singaporechess.org.sg
SUMMARY:34th Chess.sg Rapid Championship
DESCRIPTION:
URL:https://singaporechess.org.sg/event/34th-chess-sg-rapid-championship/
LOCATION:Bukit Timah Shopping Centre\, Tower Block\, #18-01\, 588179
CATEGORIES:Rapid
END:VEVENT
BEGIN:VEVENT
DTSTART;TZID=Asia/Singapore:20260620T130000
DTEND;TZID=Asia/Singapore:20260620T180000
DTSTAMP:20260422T011903
CREATED:20260414T060256Z
LAST-MODIFIED:20260414T060256Z
UID:28469-1781960400-1781978400@singaporechess.org.sg
SUMMARY:22nd Chess.sg Age Group Championship
DESCRIPTION:
URL:https://singaporechess.org.sg/event/22nd-chess-sg-age-group-championship/
LOCATION:Bukit Timah Shopping Centre\, Tower Block\, #18-01\, 588179
CATEGORIES:Rapid
END:VEVENT
BEGIN:VEVENT
DTSTART;TZID=Asia/Singapore:20260622T100000
DTEND;TZID=Asia/Singapore:20260627T200000
DTSTAMP:20260422T011903
CREATED:20260108T054546Z
LAST-MODIFIED:20260108T054546Z
UID:24979-1782122400-1782590400@singaporechess.org.sg
SUMMARY:2nd DAV- Go Checkmate International Chess Prix 2026 - IM Norm (RR)
DESCRIPTION:
URL:https://singaporechess.org.sg/event/2nd-dav-go-checkmate-international-chess-prix-2026-im-norm-rr/
LOCATION:DAV Hindi School\, 113 Syed Alwi Road\, 207681\, Singapore
CATEGORIES:Classical
END:VEVENT
BEGIN:VEVENT
DTSTART;TZID=Asia/Singapore:20260622T100000
DTEND;TZID=Asia/Singapore:20260627T200000
DTSTAMP:20260422T011903
CREATED:20260108T054648Z
LAST-MODIFIED:20260108T054648Z
UID:24981-1782122400-1782590400@singaporechess.org.sg
SUMMARY:2nd DAV- Go Checkmate International Chess Prix 2026 - Open Standard
DESCRIPTION:
URL:https://singaporechess.org.sg/event/2nd-dav-go-checkmate-international-chess-prix-2026-open-standard/
LOCATION:DAV Hindi School\, 113 Syed Alwi Road\, 207681\, Singapore
CATEGORIES:Classical
END:VEVENT
BEGIN:VEVENT
DTSTART;TZID=Asia/Singapore:20260622T160000
DTEND;TZID=Asia/Singapore:20260627T200000
DTSTAMP:20260422T011903
CREATED:20260108T025502Z
LAST-MODIFIED:20260108T025502Z
UID:24964-1782144000-1782590400@singaporechess.org.sg
SUMMARY:2nd DAV- Go Checkmate International Chess Prix 2026 - GM Norm (RR)
DESCRIPTION:
URL:https://singaporechess.org.sg/event/2nd-dav-go-checkmate-international-chess-prix-2026-gm-norm-rr/
LOCATION:DAV Hindi School\, 113 Syed Alwi Road\, 207681\, Singapore
CATEGORIES:Classical
END:VEVENT
BEGIN:VEVENT
DTSTART;TZID=Asia/Singapore:20260625T100000
DTEND;TZID=Asia/Singapore:20260625T140000
DTSTAMP:20260422T011903
CREATED:20260116T023656Z
LAST-MODIFIED:20260116T023656Z
UID:25324-1782381600-1782396000@singaporechess.org.sg
SUMMARY:2nd DAV- Go Checkmate International Chess Prix 2026 - Under 8 Rapid
DESCRIPTION:
URL:https://singaporechess.org.sg/event/2nd-dav-go-checkmate-international-chess-prix-2026-under-8-rapid/
LOCATION:DAV Hindi School\, 113 Syed Alwi Road\, 207681\, Singapore
CATEGORIES:Rapid
END:VEVENT
BEGIN:VEVENT
DTSTART;TZID=Asia/Singapore:20260625T100000
DTEND;TZID=Asia/Singapore:20260625T140000
DTSTAMP:20260422T011903
CREATED:20260116T023756Z
LAST-MODIFIED:20260116T023756Z
UID:25326-1782381600-1782396000@singaporechess.org.sg
SUMMARY:2nd DAV- Go Checkmate International Chess Prix 2026 - Under 12 Rapid
DESCRIPTION:
URL:https://singaporechess.org.sg/event/2nd-dav-go-checkmate-international-chess-prix-2026-under-12-rapid/
LOCATION:DAV Hindi School\, 113 Syed Alwi Road\, 207681\, Singapore
CATEGORIES:Rapid
END:VEVENT
BEGIN:VEVENT
DTSTART;TZID=Asia/Singapore:20260625T100000
DTEND;TZID=Asia/Singapore:20260625T140000
DTSTAMP:20260422T011903
CREATED:20260116T023908Z
LAST-MODIFIED:20260116T023908Z
UID:25328-1782381600-1782396000@singaporechess.org.sg
SUMMARY:2nd DAV- Go Checkmate International Chess Prix 2026 - Under 18 Rapid
DESCRIPTION:
URL:https://singaporechess.org.sg/event/2nd-dav-go-checkmate-international-chess-prix-2026-under-18-rapid/
LOCATION:DAV Hindi School\, 113 Syed Alwi Road\, 207681\, Singapore
CATEGORIES:Rapid
END:VEVENT
BEGIN:VEVENT
DTSTART;TZID=Asia/Singapore:20260627T100000
DTEND;TZID=Asia/Singapore:20260627T200000
DTSTAMP:20260422T011903
CREATED:20260116T022538Z
LAST-MODIFIED:20260116T023249Z
UID:25320-1782554400-1782590400@singaporechess.org.sg
SUMMARY:2nd DAV- Go Checkmate International Chess Prix 2026 - Open Rapid
DESCRIPTION:
URL:https://singaporechess.org.sg/event/2nd-dav-go-checkmate-international-chess-prix-2026-open-rapid-2/
LOCATION:DAV Hindi School\, 113 Syed Alwi Road\, 207681\, Singapore
CATEGORIES:Rapid
END:VEVENT
BEGIN:VEVENT
DTSTART;TZID=Asia/Singapore:20260627T130000
DTEND;TZID=Asia/Singapore:20260627T193000
DTSTAMP:20260422T011903
CREATED:20260414T060356Z
LAST-MODIFIED:20260414T060356Z
UID:28471-1782565200-1782588600@singaporechess.org.sg
SUMMARY:35th Chess.sg Rapid Championship
DESCRIPTION:
URL:https://singaporechess.org.sg/event/35th-chess-sg-rapid-championship/
LOCATION:Bukit Timah Shopping Centre\, Tower Block\, #18-01\, 588179
CATEGORIES:Rapid
END:VEVENT
BEGIN:VEVENT
DTSTART;TZID=Asia/Singapore:20260703T190000
DTEND;TZID=Asia/Singapore:20260704T210000
DTSTAMP:20260422T011903
CREATED:20260419T033525Z
LAST-MODIFIED:20260419T033525Z
UID:28631-1783105200-1783198800@singaporechess.org.sg
SUMMARY:SGMS ( 45+15 ) Standard Open 2026(7.3-7.4)
DESCRIPTION:
URL:https://singaporechess.org.sg/event/sgms-4515-standard-open-20267-3-7-4/
LOCATION:865 Mountbatten road #05-30 Katong Shopping Centre\,Singapore\,437844
CATEGORIES:Classical
END:VEVENT
BEGIN:VEVENT
DTSTART;TZID=Asia/Singapore:20260710T190000
DTEND;TZID=Asia/Singapore:20260712T200000
DTSTAMP:20260422T011903
CREATED:20260419T033234Z
LAST-MODIFIED:20260419T033234Z
UID:28628-1783710000-1783886400@singaporechess.org.sg
SUMMARY:SGMS Monthly Open 90+30 July 2026
DESCRIPTION:
URL:https://singaporechess.org.sg/event/sgms-monthly-open-9030-july-2026/
LOCATION:865 Mountbatten road #05-30 Katong Shopping Centre\,Singapore\,437844
CATEGORIES:Classical
END:VEVENT
BEGIN:VEVENT
DTSTART;TZID=Asia/Singapore:20260912T093000
DTEND;TZID=Asia/Singapore:20260913T173000
DTSTAMP:20260422T011903
CREATED:20260415T093636Z
LAST-MODIFIED:20260415T093647Z
UID:28551-1789205400-1789320600@singaporechess.org.sg
SUMMARY:67th National Inter-School Team Championships 2026
DESCRIPTION:
URL:https://singaporechess.org.sg/event/67th-national-inter-school-team-championships-2026/
LOCATION:Overseas Family School Main Auditorium (81 Pasir Ris Heights\, S519292)
CATEGORIES:Rapid,SCF Tournaments
END:VEVENT
END:VCALENDAR